Workbook
Name BelowBBBAdjustment: 'Generic Credit Spreads'!$C$4
Name ConservativeSpreadAdjustment: 'Generic Credit Spreads'!$C$3
Name IndexColumn: #REF!
Name InterpolatedCostofFunds: 'Interpolated Cost of Funds'!$B$1
Name InterpolatedCostofFundsUpperLeft: 'Interpolated Cost of Funds'!$B$9
Name LeaseDocumentNameClearArea: Summary!$O$13:$R$1102
Name LeaseDocumentNameLocation: Summary!$O$13
Name RatingCategory: Summary!$C$14
Name SixMonthAdjustment: 'Generic Credit Spreads'!$C$7
Name TaxExemptRateAdjustment: 'Custom Data'!$D$5
Name TaxExemptRateAdjustment: 'FASB Data'!$P$5
Name TaxExemptRateAdjustment: 'Market Data'!$D$5
Name test: 'Market Data'!$C$17
Name ThreeMonthAdjustment: 'Generic Credit Spreads'!$C$6
Name WhichRate: Summary!$C$15

Sheet Summary
A3: Incremental Borrowing Rate Template (Version External 3.5)
N10: Agreement Terms
A11: Directions: Select rate type in dropdown below, and fill in the yellow area to the right for each Agreement (maximum 500 Agreements). | S11: Scale | T11: =IF(OR(WhichRate="GASB",WhichRate="Custom"),"AAA Rate","Treasury Rate") -> Treasury Rate | U11: =IF(OR(WhichRate="GASB",WhichRate="Custom"),"AAA Rate","Treasury Rate") -> Treasury Rate | V11: Credit Spread | W11: Credit Spread | X11: Credit Spread | Z11: Tax-Exempt | AB11: Adjusted
A12: For ASC 842 leases within asset classes applying the Practical Expedient setting for "risk free rate", select 'FASB RFR' in dropdown. | N12: Agreement # | O12: Agreement Document Name | P12: Agreement Start Date | Q12: Agreement End Date | R12: Tax Status | S12: Date | T12: Column Offset | U12: Row Offset | V12: Key | W12: Column Offset | X12: Row Offset | Y12: Term | Z12: =IF(WhichRate="GASB","AAA Rate","Treasury Rate") -> Treasury Rate | AA12: Credit Spread | AB12: Rate
A13: Inputs | N13: 1 | O13: Test #1 | P13: 45839 | Q13: 46387 | R13: Tax-Exempt | S13: {=IF(ISBLANK(P13)," ",IF(OR(WhichRate="GASB IBR",WhichRate="FASB IBR",WhichRate="Custom"),IF(ISBLANK(P13),IFERROR(HLOOKUP(P13,'Market Data'!$C$13:$BA$13,1)," "),IFERROR(HLOOKUP(P13,'Market Data'!$C$13:$BA$13,1),"No Rate")),_xlfn.XLOOKUP(TEXT(P13,"mm-yyyy"),TEXT('FASB Data'!$D$13:$BC$13,"mm-yyyy"),'FASB Data'!$D$13:$BC$13,,0)))} -> 45839 | T13: =IF(OR(S13="No Rate",S13="",S13=" "),"",IF(OR(WhichRate="GASB IBR",WhichRate="FASB IBR",WhichRate="Custom"),SUMIF('Market Data'!$C$13:$BI$13,Summary!S13,'Market Data'!$C$14:$BI$14),SUMIF('FASB Data'!$C$13:$BU$13,Summary!S13,'FASB Data'!$C$14:$BU$14))) -> 23 | U13: =IFERROR(VLOOKUP($Y13,'Market Data'!$B$15:$C$47,2,TRUE)+1,"") -> 5 | V13: =IF(OR(S13="No Rate",S13="",S13=" "),"",IF(WhichRate="FASB RFR","N/A",IF(Y13<=0.25,RatingCategory&"-0.25",IF(Y13<1,RatingCategory&"-0.5",RatingCategory&"-"&ROUND(Y13,3))))) -> Aaa-2 | W13: =IF(OR(S13="No Rate",S13="",S13=" ",S13=""),"",IF(WhichRate="FASB RFR","N/A",SUMIF('Market Data'!$C$51:$BI$51,Summary!S13,'Market Data'!$C$52:$BI$52))) -> 25 | X13: =IF(ISBLANK(P13)," ",IF(WhichRate="FASB RFR","N/A",IFERROR(VLOOKUP($V13,'Market Data'!$C$53:$D$213,2,FALSE),""))) -> 100 | Y13: =IF(ISBLANK(P13)," ",IF(DAYS360(P13,Q13,0)>10800,30,ROUND(IF(DAYS360(Summary!$P13,Summary!$Q13)/360>=1,ROUND(DAYS360(Summary!$P13,Summary!$Q13)/360,0),DAYS360(Summary!$P13,Summary!$Q13)/360),2))) -> 2 | Z13: =IF(OR(WhichRate="GASB IBR",WhichRate="FASB IBR",WhichRate="Custom"),IFERROR(IF(OR($S13="No Rate",$S13="",$S13=" ",$S13="")," ",OFFSET('Market Data'!$B$15,Summary!U13-1,Summary!T13-1)),""),IFERROR(IF(OR($S13="No Rate",$S13="",$S13=" ",$S13="")," ",OFFSET('FASB Data'!$B$15,Summary!U13-1,Summary!T13-1)),"")) -> 0.025836667 | AA13: =IF(O13<>"",IF(WhichRate="FASB RFR",0,IF(OR(WhichRate="GASB IBR",WhichRate="FASB IBR"),IF(OR($S13="No Rate",$S13="",$S13=" "),"",OFFSET('Market Data'!$B$53,Summary!X13,Summary!W13-1)),IF(WhichRate="Custom",IF(OR($S13="No Rate",$S13="",$S13=" "),"",OFFSET('Custom Data'!$B$53,Summary!X13,Summary!W13-1)),""))),"") -> 0 | AB13: =IF(OR($S13="No Rate",$S13="")," ",IF($R13="","",IF(Summary!$R13="Taxable",IF(Summary!$Y13>0,(Summary!$Z13+Summary!$AA13)*(1+TaxExemptRateAdjustment)),IF(Summary!$Y13>0,Summary!$Z13+Summary!$AA13)))) -> 0.025836667 | AC13: =IF(Q13>0,IF(Q13-P13<365,"Possible Short Term Lease",""),"")
A14: Select your rating category: | C14: Aaa | N14: =N13+1 -> 2 | O14: Test #2 | P14: 44197 | Q14: 45580 | R14: Tax-Exempt | S14: {=IF(ISBLANK(P14)," ",IF(OR(WhichRate="GASB IBR",WhichRate="FASB IBR",WhichRate="Custom"),IF(ISBLANK(P14),IFERROR(HLOOKUP(P14,'Market Data'!$C$13:$BA$13,1)," "),IFERROR(HLOOKUP(P14,'Market Data'!$C$13:$BA$13,1),"No Rate")),_xlfn.XLOOKUP(TEXT(P14,"mm-yyyy"),TEXT('FASB Data'!$D$13:$BC$13,"mm-yyyy"),'FASB Data'!$D$13:$BC$13,,0)))} -> 44197 | T14: =IF(OR(S14="No Rate",S14="",S14=" "),"",IF(OR(WhichRate="GASB IBR",WhichRate="FASB IBR",WhichRate="Custom"),SUMIF('Market Data'!$C$13:$BI$13,Summary!S14,'Market Data'!$C$14:$BI$14),SUMIF('FASB Data'!$C$13:$BU$13,Summary!S14,'FASB Data'!$C$14:$BU$14))) -> 5 | U14: =IFERROR(VLOOKUP($Y14,'Market Data'!$B$15:$C$47,2,TRUE)+1,"") -> 7 | V14: =IF(OR(S14="No Rate",S14="",S14=" "),"",IF(WhichRate="FASB RFR","N/A",IF(Y14<=0.25,RatingCategory&"-0.25",IF(Y14<1,RatingCategory&"-0.5",RatingCategory&"-"&ROUND(Y14,3))))) -> Aaa-4 | W14: =IF(OR(S14="No Rate",S14="",S14=" ",S14=""),"",IF(WhichRate="FASB RFR","N/A",SUMIF('Market Data'!$C$51:$BI$51,Summary!S14,'Market Data'!$C$52:$BI$52))) -> 7 | X14: =IF(ISBLANK(P14)," ",IF(WhichRate="FASB RFR","N/A",IFERROR(VLOOKUP($V14,'Market Data'!$C$53:$D$213,2,FALSE),""))) -> 102 | Y14: =IF(ISBLANK(P14)," ",IF(DAYS360(P14,Q14,0)>10800,30,ROUND(IF(DAYS360(Summary!$P14,Summary!$Q14)/360>=1,ROUND(DAYS360(Summary!$P14,Summary!$Q14)/360,0),DAYS360(Summary!$P14,Summary!$Q14)/360),2))) -> 4 | Z14: =IF(OR(WhichRate="GASB IBR",WhichRate="FASB IBR",WhichRate="Custom"),IFERROR(IF(OR($S14="No Rate",$S14="",$S14=" ",$S14="")," ",OFFSET('Market Data'!$B$15,Summary!U14-1,Summary!T14-1)),""),IFERROR(IF(OR($S14="No Rate",$S14="",$S14=" ",$S14="")," ",OFFSET('FASB Data'!$B$15,Summary!U14-1,Summary!T14-1)),"")) -> 0.0022133333 | AA14: =IF(O14<>"",IF(WhichRate="FASB RFR",0,IF(OR(WhichRate="GASB IBR",WhichRate="FASB IBR"),IF(OR($S14="No Rate",$S14="",$S14=" "),"",OFFSET('Market Data'!$B$53,Summary!X14,Summary!W14-1)),IF(WhichRate="Custom",IF(OR($S14="No Rate",$S14="",$S14=" "),"",OFFSET('Custom Data'!$B$53,Summary!X14,Summary!W14-1)),""))),"") -> 0 | AB14: =IF(OR($S14="No Rate",$S14="")," ",IF($R14="","",IF(Summary!$R14="Taxable",IF(Summary!$Y14>0,(Summary!$Z14+Summary!$AA14)*(1+TaxExemptRateAdjustment)),IF(Summary!$Y14>0,Summary!$Z14+Summary!$AA14)))) -> 0.0022133333 | AC14: =IF(Q14>0,IF(Q14-P14<365,"Possible Short Term Lease",""),"")
A15: Which rates do you want to use? | C15: GASB IBR | N15: =N14+1 -> 3 | O15: Test #3 | P15: 45468 | Q15: 46568 | R15: Tax-Exempt | S15: {=IF(ISBLANK(P15)," ",IF(OR(WhichRate="GASB IBR",WhichRate="FASB IBR",WhichRate="Custom"),IF(ISBLANK(P15),IFERROR(HLOOKUP(P15,'Market Data'!$C$13:$BA$13,1)," "),IFERROR(HLOOKUP(P15,'Market Data'!$C$13:$BA$13,1),"No Rate")),_xlfn.XLOOKUP(TEXT(P15,"mm-yyyy"),TEXT('FASB Data'!$D$13:$BC$13,"mm-yyyy"),'FASB Data'!$D$13:$BC$13,,0)))} -> 45383 | T15: =IF(OR(S15="No Rate",S15="",S15=" "),"",IF(OR(WhichRate="GASB IBR",WhichRate="FASB IBR",WhichRate="Custom"),SUMIF('Market Data'!$C$13:$BI$13,Summary!S15,'Market Data'!$C$14:$BI$14),SUMIF('FASB Data'!$C$13:$BU$13,Summary!S15,'FASB Data'!$C$14:$BU$14))) -> 18 | U15: =IFERROR(VLOOKUP($Y15,'Market Data'!$B$15:$C$47,2,TRUE)+1,"") -> 6 | V15: =IF(OR(S15="No Rate",S15="",S15=" "),"",IF(WhichRate="FASB RFR","N/A",IF(Y15<=0.25,RatingCategory&"-0.25",IF(Y15<1,RatingCategory&"-0.5",RatingCategory&"-"&ROUND(Y15,3))))) -> Aaa-3 | W15: =IF(OR(S15="No Rate",S15="",S15=" ",S15=""),"",IF(WhichRate="FASB RFR","N/A",SUMIF('Market Data'!$C$51:$BI$51,Summary!S15,'Market Data'!$C$52:$BI$52))) -> 20 | X15: =IF(ISBLANK(P15)," ",IF(WhichRate="FASB RFR","N/A",IFERROR(VLOOKUP($V15,'Market Data'!$C$53:$D$213,2,FALSE),""))) -> 101 | Y15: =IF(ISBLANK(P15)," ",IF(DAYS360(P15,Q15,0)>10800,30,ROUND(IF(DAYS360(Summary!$P15,Summary!$Q15)/360>=1,ROUND(DAYS360(Summary!$P15,Summary!$Q15)/360,0),DAYS360(Summary!$P15,Summary!$Q15)/360),2))) -> 3 | Z15: =IF(OR(WhichRate="GASB IBR",WhichRate="FASB IBR",WhichRate="Custom"),IFERROR(IF(OR($S15="No Rate",$S15="",$S15=" ",$S15="")," ",OFFSET('Market Data'!$B$15,Summary!U15-1,Summary!T15-1)),""),IFERROR(IF(OR($S15="No Rate",$S15="",$S15=" ",$S15="")," ",OFFSET('FASB Data'!$B$15,Summary!U15-1,Summary!T15-1)),"")) -> 0.028513333 | AA15: =IF(O15<>"",IF(WhichRate="FASB RFR",0,IF(OR(WhichRate="GASB IBR",WhichRate="FASB IBR"),IF(OR($S15="No Rate",$S15="",$S15=" "),"",OFFSET('Market Data'!$B$53,Summary!X15,Summary!W15-1)),IF(WhichRate="Custom",IF(OR($S15="No Rate",$S15="",$S15=" "),"",OFFSET('Custom Data'!$B$53,Summary!X15,Summary!W15-1)),""))),"") -> 0 | AB15: =IF(OR($S15="No Rate",$S15="")," ",IF($R15="","",IF(Summary!$R15="Taxable",IF(Summary!$Y15>0,(Summary!$Z15+Summary!$AA15)*(1+TaxExemptRateAdjustment)),IF(Summary!$Y15>0,Summary!$Z15+Summary!$AA15)))) -> 0.028513333 | AC15: =IF(Q15>0,IF(Q15-P15<365,"Possible Short Term Lease",""),"")
N16: =N15+1 -> 4 | S16: {=IF(ISBLANK(P16)," ",IF(OR(WhichRate="GASB IBR",WhichRate="FASB IBR",WhichRate="Custom"),IF(ISBLANK(P16),IFERROR(HLOOKUP(P16,'Market Data'!$C$13:$BA$13,1)," "),IFERROR(HLOOKUP(P16,'Market Data'!$C$13:$BA$13,1),"No Rate")),_xlfn.XLOOKUP(TEXT(P16,"mm-yyyy"),TEXT('FASB Data'!$D$13:$BC$13,"mm-yyyy"),'FASB Data'!$D$13:$BC$13,,0)))} | T16: =IF(OR(S16="No Rate",S16="",S16=" "),"",IF(OR(WhichRate="GASB IBR",WhichRate="FASB IBR",WhichRate="Custom"),SUMIF('Market Data'!$C$13:$BI$13,Summary!S16,'Market Data'!$C$14:$BI$14),SUMIF('FASB Data'!$C$13:$BU$13,Summary!S16,'FASB Data'!$C$14:$BU$14))) | U16: =IFERROR(VLOOKUP($Y16,'Market Data'!$B$15:$C$47,2,TRUE)+1,"") | V16: =IF(OR(S16="No Rate",S16="",S16=" "),"",IF(WhichRate="FASB RFR","N/A",IF(Y16<=0.25,RatingCategory&"-0.25",IF(Y16<1,RatingCategory&"-0.5",RatingCategory&"-"&ROUND(Y16,3))))) | W16: =IF(OR(S16="No Rate",S16="",S16=" ",S16=""),"",IF(WhichRate="FASB RFR","N/A",SUMIF('Market Data'!$C$51:$BI$51,Summary!S16,'Market Data'!$C$52:$BI$52))) | X16: =IF(ISBLANK(P16)," ",IF(WhichRate="FASB RFR","N/A",IFERROR(VLOOKUP($V16,'Market Data'!$C$53:$D$213,2,FALSE),""))) | Y16: =IF(ISBLANK(P16)," ",IF(DAYS360(P16,Q16,0)>10800,30,ROUND(IF(DAYS360(Summary!$P16,Summary!$Q16)/360>=1,ROUND(DAYS360(Summary!$P16,Summary!$Q16)/360,0),DAYS360(Summary!$P16,Summary!$Q16)/360),2))) | Z16: =IF(OR(WhichRate="GASB IBR",WhichRate="FASB IBR",WhichRate="Custom"),IFERROR(IF(OR($S16="No Rate",$S16="",$S16=" ",$S16="")," ",OFFSET('Market Data'!$B$15,Summary!U16-1,Summary!T16-1)),""),IFERROR(IF(OR($S16="No Rate",$S16="",$S16=" ",$S16="")," ",OFFSET('FASB Data'!$B$15,Summary!U16-1,Summary!T16-1)),"")) | AA16: =IF(O16<>"",IF(WhichRate="FASB RFR",0,IF(OR(WhichRate="GASB IBR",WhichRate="FASB IBR"),IF(OR($S16="No Rate",$S16="",$S16=" "),"",OFFSET('Market Data'!$B$53,Summary!X16,Summary!W16-1)),IF(WhichRate="Custom",IF(OR($S16="No Rate",$S16="",$S16=" "),"",OFFSET('Custom Data'!$B$53,Summary!X16,Summary!W16-1)),""))),"") | AB16: =IF(OR($S16="No Rate",$S16="")," ",IF($R16="","",IF(Summary!$R16="Taxable",IF(Summary!$Y16>0,(Summary!$Z16+Summary!$AA16)*(1+TaxExemptRateAdjustment)),IF(Summary!$Y16>0,Summary!$Z16+Summary!$AA16)))) | AC16: =IF(Q16>0,IF(Q16-P16<365,"Possible Short Term Lease",""),"")
B17: Credit Spreads - Custom | N17: =N16+1 -> 5 | S17: {=IF(ISBLANK(P17)," ",IF(OR(WhichRate="GASB IBR",WhichRate="FASB IBR",WhichRate="Custom"),IF(ISBLANK(P17),IFERROR(HLOOKUP(P17,'Market Data'!$C$13:$BA$13,1)," "),IFERROR(HLOOKUP(P17,'Market Data'!$C$13:$BA$13,1),"No Rate")),_xlfn.XLOOKUP(TEXT(P17,"mm-yyyy"),TEXT('FASB Data'!$D$13:$BC$13,"mm-yyyy"),'FASB Data'!$D$13:$BC$13,,0)))} | T17: =IF(OR(S17="No Rate",S17="",S17=" "),"",IF(OR(WhichRate="GASB IBR",WhichRate="FASB IBR",WhichRate="Custom"),SUMIF('Market Data'!$C$13:$BI$13,Summary!S17,'Market Data'!$C$14:$BI$14),SUMIF('FASB Data'!$C$13:$BU$13,Summary!S17,'FASB Data'!$C$14:$BU$14))) | U17: =IFERROR(VLOOKUP($Y17,'Market Data'!$B$15:$C$47,2,TRUE)+1,"") | V17: =IF(OR(S17="No Rate",S17="",S17=" "),"",IF(WhichRate="FASB RFR","N/A",IF(Y17<=0.25,RatingCategory&"-0.25",IF(Y17<1,RatingCategory&"-0.5",RatingCategory&"-"&ROUND(Y17,3))))) | W17: =IF(OR(S17="No Rate",S17="",S17=" ",S17=""),"",IF(WhichRate="FASB RFR","N/A",SUMIF('Market Data'!$C$51:$BI$51,Summary!S17,'Market Data'!$C$52:$BI$52))) | X17: =IF(ISBLANK(P17)," ",IF(WhichRate="FASB RFR","N/A",IFERROR(VLOOKUP($V17,'Market Data'!$C$53:$D$213,2,FALSE),""))) | Y17: =IF(ISBLANK(P17)," ",IF(DAYS360(P17,Q17,0)>10800,30,ROUND(IF(DAYS360(Summary!$P17,Summary!$Q17)/360>=1,ROUND(DAYS360(Summary!$P17,Summary!$Q17)/360,0),DAYS360(Summary!$P17,Summary!$Q17)/360),2))) | Z17: =IF(OR(WhichRate="GASB IBR",WhichRate="FASB IBR",WhichRate="Custom"),IFERROR(IF(OR($S17="No Rate",$S17="",$S17=" ",$S17="")," ",OFFSET('Market Data'!$B$15,Summary!U17-1,Summary!T17-1)),""),IFERROR(IF(OR($S17="No Rate",$S17="",$S17=" ",$S17="")," ",OFFSET('FASB Data'!$B$15,Summary!U17-1,Summary!T17-1)),"")) | AA17: =IF(O17<>"",IF(WhichRate="FASB RFR",0,IF(OR(WhichRate="GASB IBR",WhichRate="FASB IBR"),IF(OR($S17="No Rate",$S17="",$S17=" "),"",OFFSET('Market Data'!$B$53,Summary!X17,Summary!W17-1)),IF(WhichRate="Custom",IF(OR($S17="No Rate",$S17="",$S17=" "),"",OFFSET('Custom Data'!$B$53,Summary!X17,Summary!W17-1)),""))),"") | AB17: =IF(OR($S17="No Rate",$S17="")," ",IF($R17="","",IF(Summary!$R17="Taxable",IF(Summary!$Y17>0,(Summary!$Z17+Summary!$AA17)*(1+TaxExemptRateAdjustment)),IF(Summary!$Y17>0,Summary!$Z17+Summary!$AA17)))) | AC17: =IF(Q17>0,IF(Q17-P17<365,"Possible Short Term Lease",""),"")
B18: Rating | C18: 3 Months | D18: 6 Months | E18: 1 Year | F18: 2 Years | G18: 3 Years | H18: 5 Years | I18: 7 Years | J18: 10 Years | K18: 20 Years | L18: 30 Years | N18: =N17+1 -> 6 | S18: {=IF(ISBLANK(P18)," ",IF(OR(WhichRate="GASB IBR",WhichRate="FASB IBR",WhichRate="Custom"),IF(ISBLANK(P18),IFERROR(HLOOKUP(P18,'Market Data'!$C$13:$BA$13,1)," "),IFERROR(HLOOKUP(P18,'Market Data'!$C$13:$BA$13,1),"No Rate")),_xlfn.XLOOKUP(TEXT(P18,"mm-yyyy"),TEXT('FASB Data'!$D$13:$BC$13,"mm-yyyy"),'FASB Data'!$D$13:$BC$13,,0)))} | T18: =IF(OR(S18="No Rate",S18="",S18=" "),"",IF(OR(WhichRate="GASB IBR",WhichRate="FASB IBR",WhichRate="Custom"),SUMIF('Market Data'!$C$13:$BI$13,Summary!S18,'Market Data'!$C$14:$BI$14),SUMIF('FASB Data'!$C$13:$BU$13,Summary!S18,'FASB Data'!$C$14:$BU$14))) | U18: =IFERROR(VLOOKUP($Y18,'Market Data'!$B$15:$C$47,2,TRUE)+1,"") | V18: =IF(OR(S18="No Rate",S18="",S18=" "),"",IF(WhichRate="FASB RFR","N/A",IF(Y18<=0.25,RatingCategory&"-0.25",IF(Y18<1,RatingCategory&"-0.5",RatingCategory&"-"&ROUND(Y18,3))))) | W18: =IF(OR(S18="No Rate",S18="",S18=" ",S18=""),"",IF(WhichRate="FASB RFR","N/A",SUMIF('Market Data'!$C$51:$BI$51,Summary!S18,'Market Data'!$C$52:$BI$52))) | X18: =IF(ISBLANK(P18)," ",IF(WhichRate="FASB RFR","N/A",IFERROR(VLOOKUP($V18,'Market Data'!$C$53:$D$213,2,FALSE),""))) | Y18: =IF(ISBLANK(P18)," ",IF(DAYS360(P18,Q18,0)>10800,30,ROUND(IF(DAYS360(Summary!$P18,Summary!$Q18)/360>=1,ROUND(DAYS360(Summary!$P18,Summary!$Q18)/360,0),DAYS360(Summary!$P18,Summary!$Q18)/360),2))) | Z18: =IF(OR(WhichRate="GASB IBR",WhichRate="FASB IBR",WhichRate="Custom"),IFERROR(IF(OR($S18="No Rate",$S18="",$S18=" ",$S18="")," ",OFFSET('Market Data'!$B$15,Summary!U18-1,Summary!T18-1)),""),IFERROR(IF(OR($S18="No Rate",$S18="",$S18=" ",$S18="")," ",OFFSET('FASB Data'!$B$15,Summary!U18-1,Summary!T18-1)),"")) | AA18: =IF(O18<>"",IF(WhichRate="FASB RFR",0,IF(OR(WhichRate="GASB IBR",WhichRate="FASB IBR"),IF(OR($S18="No Rate",$S18="",$S18=" "),"",OFFSET('Market Data'!$B$53,Summary!X18,Summary!W18-1)),IF(WhichRate="Custom",IF(OR($S18="No Rate",$S18="",$S18=" "),"",OFFSET('Custom Data'!$B$53,Summary!X18,Summary!W18-1)),""))),"") | AB18: =IF(OR($S18="No Rate",$S18="")," ",IF($R18="","",IF(Summary!$R18="Taxable",IF(Summary!$Y18>0,(Summary!$Z18+Summary!$AA18)*(1+TaxExemptRateAdjustment)),IF(Summary!$Y18>0,Summary!$Z18+Summary!$AA18)))) | AC18: =IF(Q18>0,IF(Q18-P18<365,"Possible Short Term Lease",""),"")
B19: AAA | N19: =N18+1 -> 7 | S19: {=IF(ISBLANK(P19)," ",IF(OR(WhichRate="GASB IBR",WhichRate="FASB IBR",WhichRate="Custom"),IF(ISBLANK(P19),IFERROR(HLOOKUP(P19,'Market Data'!$C$13:$BA$13,1)," "),IFERROR(HLOOKUP(P19,'Market Data'!$C$13:$BA$13,1),"No Rate")),_xlfn.XLOOKUP(TEXT(P19,"mm-yyyy"),TEXT('FASB Data'!$D$13:$BC$13,"mm-yyyy"),'FASB Data'!$D$13:$BC$13,,0)))} | T19: =IF(OR(S19="No Rate",S19="",S19=" "),"",IF(OR(WhichRate="GASB IBR",WhichRate="FASB IBR",WhichRate="Custom"),SUMIF('Market Data'!$C$13:$BI$13,Summary!S19,'Market Data'!$C$14:$BI$14),SUMIF('FASB Data'!$C$13:$BU$13,Summary!S19,'FASB Data'!$C$14:$BU$14))) | U19: =IFERROR(VLOOKUP($Y19,'Market Data'!$B$15:$C$47,2,TRUE)+1,"") | V19: =IF(OR(S19="No Rate",S19="",S19=" "),"",IF(WhichRate="FASB RFR","N/A",IF(Y19<=0.25,RatingCategory&"-0.25",IF(Y19<1,RatingCategory&"-0.5",RatingCategory&"-"&ROUND(Y19,3))))) | W19: =IF(OR(S19="No Rate",S19="",S19=" ",S19=""),"",IF(WhichRate="FASB RFR","N/A",SUMIF('Market Data'!$C$51:$BI$51,Summary!S19,'Market Data'!$C$52:$BI$52))) | X19: =IF(ISBLANK(P19)," ",IF(WhichRate="FASB RFR","N/A",IFERROR(VLOOKUP($V19,'Market Data'!$C$53:$D$213,2,FALSE),""))) | Y19: =IF(ISBLANK(P19)," ",IF(DAYS360(P19,Q19,0)>10800,30,ROUND(IF(DAYS360(Summary!$P19,Summary!$Q19)/360>=1,ROUND(DAYS360(Summary!$P19,Summary!$Q19)/360,0),DAYS360(Summary!$P19,Summary!$Q19)/360),2))) | Z19: =IF(OR(WhichRate="GASB IBR",WhichRate="FASB IBR",WhichRate="Custom"),IFERROR(IF(OR($S19="No Rate",$S19="",$S19=" ",$S19="")," ",OFFSET('Market Data'!$B$15,Summary!U19-1,Summary!T19-1)),""),IFERROR(IF(OR($S19="No Rate",$S19="",$S19=" ",$S19="")," ",OFFSET('FASB Data'!$B$15,Summary!U19-1,Summary!T19-1)),"")) | AA19: =IF(O19<>"",IF(WhichRate="FASB RFR",0,IF(OR(WhichRate="GASB IBR",WhichRate="FASB IBR"),IF(OR($S19="No Rate",$S19="",$S19=" "),"",OFFSET('Market Data'!$B$53,Summary!X19,Summary!W19-1)),IF(WhichRate="Custom",IF(OR($S19="No Rate",$S19="",$S19=" "),"",OFFSET('Custom Data'!$B$53,Summary!X19,Summary!W19-1)),""))),"") | AB19: =IF(OR($S19="No Rate",$S19="")," ",IF($R19="","",IF(Summary!$R19="Taxable",IF(Summary!$Y19>0,(Summary!$Z19+Summary!$AA19)*(1+TaxExemptRateAdjustment)),IF(Summary!$Y19>0,Summary!$Z19+Summary!$AA19)))) | AC19: =IF(Q19>0,IF(Q19-P19<365,"Possible Short Term Lease",""),"")
B20: AA | N20: =N19+1 -> 8 | S20: {=IF(ISBLANK(P20)," ",IF(OR(WhichRate="GASB IBR",WhichRate="FASB IBR",WhichRate="Custom"),IF(ISBLANK(P20),IFERROR(HLOOKUP(P20,'Market Data'!$C$13:$BA$13,1)," "),IFERROR(HLOOKUP(P20,'Market Data'!$C$13:$BA$13,1),"No Rate")),_xlfn.XLOOKUP(TEXT(P20,"mm-yyyy"),TEXT('FASB Data'!$D$13:$BC$13,"mm-yyyy"),'FASB Data'!$D$13:$BC$13,,0)))} | T20: =IF(OR(S20="No Rate",S20="",S20=" "),"",IF(OR(WhichRate="GASB IBR",WhichRate="FASB IBR",WhichRate="Custom"),SUMIF('Market Data'!$C$13:$BI$13,Summary!S20,'Market Data'!$C$14:$BI$14),SUMIF('FASB Data'!$C$13:$BU$13,Summary!S20,'FASB Data'!$C$14:$BU$14))) | U20: =IFERROR(VLOOKUP($Y20,'Market Data'!$B$15:$C$47,2,TRUE)+1,"") | V20: =IF(OR(S20="No Rate",S20="",S20=" "),"",IF(WhichRate="FASB RFR","N/A",IF(Y20<=0.25,RatingCategory&"-0.25",IF(Y20<1,RatingCategory&"-0.5",RatingCategory&"-"&ROUND(Y20,3))))) | W20: =IF(OR(S20="No Rate",S20="",S20=" ",S20=""),"",IF(WhichRate="FASB RFR","N/A",SUMIF('Market Data'!$C$51:$BI$51,Summary!S20,'Market Data'!$C$52:$BI$52))) | X20: =IF(ISBLANK(P20)," ",IF(WhichRate="FASB RFR","N/A",IFERROR(VLOOKUP($V20,'Market Data'!$C$53:$D$213,2,FALSE),""))) | Y20: =IF(ISBLANK(P20)," ",IF(DAYS360(P20,Q20,0)>10800,30,ROUND(IF(DAYS360(Summary!$P20,Summary!$Q20)/360>=1,ROUND(DAYS360(Summary!$P20,Summary!$Q20)/360,0),DAYS360(Summary!$P20,Summary!$Q20)/360),2))) | Z20: =IF(OR(WhichRate="GASB IBR",WhichRate="FASB IBR",WhichRate="Custom"),IFERROR(IF(OR($S20="No Rate",$S20="",$S20=" ",$S20="")," ",OFFSET('Market Data'!$B$15,Summary!U20-1,Summary!T20-1)),""),IFERROR(IF(OR($S20="No Rate",$S20="",$S20=" ",$S20="")," ",OFFSET('FASB Data'!$B$15,Summary!U20-1,Summary!T20-1)),"")) | AA20: =IF(O20<>"",IF(WhichRate="FASB RFR",0,IF(OR(WhichRate="GASB IBR",WhichRate="FASB IBR"),IF(OR($S20="No Rate",$S20="",$S20=" "),"",OFFSET('Market Data'!$B$53,Summary!X20,Summary!W20-1)),IF(WhichRate="Custom",IF(OR($S20="No Rate",$S20="",$S20=" "),"",OFFSET('Custom Data'!$B$53,Summary!X20,Summary!W20-1)),""))),"") | AB20: =IF(OR($S20="No Rate",$S20="")," ",IF($R20="","",IF(Summary!$R20="Taxable",IF(Summary!$Y20>0,(Summary!$Z20+Summary!$AA20)*(1+TaxExemptRateAdjustment)),IF(Summary!$Y20>0,Summary!$Z20+Summary!$AA20)))) | AC20: =IF(Q20>0,IF(Q20-P20<365,"Possible Short Term Lease",""),"")
B21: A | N21: =N20+1 -> 9 | S21: {=IF(ISBLANK(P21)," ",IF(OR(WhichRate="GASB IBR",WhichRate="FASB IBR",WhichRate="Custom"),IF(ISBLANK(P21),IFERROR(HLOOKUP(P21,'Market Data'!$C$13:$BA$13,1)," "),IFERROR(HLOOKUP(P21,'Market Data'!$C$13:$BA$13,1),"No Rate")),_xlfn.XLOOKUP(TEXT(P21,"mm-yyyy"),TEXT('FASB Data'!$D$13:$BC$13,"mm-yyyy"),'FASB Data'!$D$13:$BC$13,,0)))} | T21: =IF(OR(S21="No Rate",S21="",S21=" "),"",IF(OR(WhichRate="GASB IBR",WhichRate="FASB IBR",WhichRate="Custom"),SUMIF('Market Data'!$C$13:$BI$13,Summary!S21,'Market Data'!$C$14:$BI$14),SUMIF('FASB Data'!$C$13:$BU$13,Summary!S21,'FASB Data'!$C$14:$BU$14))) | U21: =IFERROR(VLOOKUP($Y21,'Market Data'!$B$15:$C$47,2,TRUE)+1,"") | V21: =IF(OR(S21="No Rate",S21="",S21=" "),"",IF(WhichRate="FASB RFR","N/A",IF(Y21<=0.25,RatingCategory&"-0.25",IF(Y21<1,RatingCategory&"-0.5",RatingCategory&"-"&ROUND(Y21,3))))) | W21: =IF(OR(S21="No Rate",S21="",S21=" ",S21=""),"",IF(WhichRate="FASB RFR","N/A",SUMIF('Market Data'!$C$51:$BI$51,Summary!S21,'Market Data'!$C$52:$BI$52))) | X21: =IF(ISBLANK(P21)," ",IF(WhichRate="FASB RFR","N/A",IFERROR(VLOOKUP($V21,'Market Data'!$C$53:$D$213,2,FALSE),""))) | Y21: =IF(ISBLANK(P21)," ",IF(DAYS360(P21,Q21,0)>10800,30,ROUND(IF(DAYS360(Summary!$P21,Summary!$Q21)/360>=1,ROUND(DAYS360(Summary!$P21,Summary!$Q21)/360,0),DAYS360(Summary!$P21,Summary!$Q21)/360),2))) | Z21: =IF(OR(WhichRate="GASB IBR",WhichRate="FASB IBR",WhichRate="Custom"),IFERROR(IF(OR($S21="No Rate",$S21="",$S21=" ",$S21="")," ",OFFSET('Market Data'!$B$15,Summary!U21-1,Summary!T21-1)),""),IFERROR(IF(OR($S21="No Rate",$S21="",$S21=" ",$S21="")," ",OFFSET('FASB Data'!$B$15,Summary!U21-1,Summary!T21-1)),"")) | AA21: =IF(O21<>"",IF(WhichRate="FASB RFR",0,IF(OR(WhichRate="GASB IBR",WhichRate="FASB IBR"),IF(OR($S21="No Rate",$S21="",$S21=" "),"",OFFSET('Market Data'!$B$53,Summary!X21,Summary!W21-1)),IF(WhichRate="Custom",IF(OR($S21="No Rate",$S21="",$S21=" "),"",OFFSET('Custom Data'!$B$53,Summary!X21,Summary!W21-1)),""))),"") | AB21: =IF(OR($S21="No Rate",$S21="")," ",IF($R21="","",IF(Summary!$R21="Taxable",IF(Summary!$Y21>0,(Summary!$Z21+Summary!$AA21)*(1+TaxExemptRateAdjustment)),IF(Summary!$Y21>0,Summary!$Z21+Summary!$AA21)))) | AC21: =IF(Q21>0,IF(Q21-P21<365,"Possible Short Term Lease",""),"")
B22: BBB | N22: =N21+1 -> 10 | S22: {=IF(ISBLANK(P22)," ",IF(OR(WhichRate="GASB IBR",WhichRate="FASB IBR",WhichRate="Custom"),IF(ISBLANK(P22),IFERROR(HLOOKUP(P22,'Market Data'!$C$13:$BA$13,1)," "),IFERROR(HLOOKUP(P22,'Market Data'!$C$13:$BA$13,1),"No Rate")),_xlfn.XLOOKUP(TEXT(P22,"mm-yyyy"),TEXT('FASB Data'!$D$13:$BC$13,"mm-yyyy"),'FASB Data'!$D$13:$BC$13,,0)))} | T22: =IF(OR(S22="No Rate",S22="",S22=" "),"",IF(OR(WhichRate="GASB IBR",WhichRate="FASB IBR",WhichRate="Custom"),SUMIF('Market Data'!$C$13:$BI$13,Summary!S22,'Market Data'!$C$14:$BI$14),SUMIF('FASB Data'!$C$13:$BU$13,Summary!S22,'FASB Data'!$C$14:$BU$14))) | U22: =IFERROR(VLOOKUP($Y22,'Market Data'!$B$15:$C$47,2,TRUE)+1,"") | V22: =IF(OR(S22="No Rate",S22="",S22=" "),"",IF(WhichRate="FASB RFR","N/A",IF(Y22<=0.25,RatingCategory&"-0.25",IF(Y22<1,RatingCategory&"-0.5",RatingCategory&"-"&ROUND(Y22,3))))) | W22: =IF(OR(S22="No Rate",S22="",S22=" ",S22=""),"",IF(WhichRate="FASB RFR","N/A",SUMIF('Market Data'!$C$51:$BI$51,Summary!S22,'Market Data'!$C$52:$BI$52))) | X22: =IF(ISBLANK(P22)," ",IF(WhichRate="FASB RFR","N/A",IFERROR(VLOOKUP($V22,'Market Data'!$C$53:$D$213,2,FALSE),""))) | Y22: =IF(ISBLANK(P22)," ",IF(DAYS360(P22,Q22,0)>10800,30,ROUND(IF(DAYS360(Summary!$P22,Summary!$Q22)/360>=1,ROUND(DAYS360(Summary!$P22,Summary!$Q22)/360,0),DAYS360(Summary!$P22,Summary!$Q22)/360),2))) | Z22: =IF(OR(WhichRate="GASB IBR",WhichRate="FASB IBR",WhichRate="Custom"),IFERROR(IF(OR($S22="No Rate",$S22="",$S22=" ",$S22="")," ",OFFSET('Market Data'!$B$15,Summary!U22-1,Summary!T22-1)),""),IFERROR(IF(OR($S22="No Rate",$S22="",$S22=" ",$S22="")," ",OFFSET('FASB Data'!$B$15,Summary!U22-1,Summary!T22-1)),"")) | AA22: =IF(O22<>"",IF(WhichRate="FASB RFR",0,IF(OR(WhichRate="GASB IBR",WhichRate="FASB IBR"),IF(OR($S22="No Rate",$S22="",$S22=" "),"",OFFSET('Market Data'!$B$53,Summary!X22,Summary!W22-1)),IF(WhichRate="Custom",IF(OR($S22="No Rate",$S22="",$S22=" "),"",OFFSET('Custom Data'!$B$53,Summary!X22,Summary!W22-1)),""))),"") | AB22: =IF(OR($S22="No Rate",$S22="")," ",IF($R22="","",IF(Summary!$R22="Taxable",IF(Summary!$Y22>0,(Summary!$Z22+Summary!$AA22)*(1+TaxExemptRateAdjustment)),IF(Summary!$Y22>0,Summary!$Z22+Summary!$AA22)))) | AC22: =IF(Q22>0,IF(Q22-P22<365,"Possible Short Term Lease",""),"")
B23: <BBB | N23: =N22+1 -> 11 | S23: {=IF(ISBLANK(P23)," ",IF(OR(WhichRate="GASB IBR",WhichRate="FASB IBR",WhichRate="Custom"),IF(ISBLANK(P23),IFERROR(HLOOKUP(P23,'Market Data'!$C$13:$BA$13,1)," "),IFERROR(HLOOKUP(P23,'Market Data'!$C$13:$BA$13,1),"No Rate")),_xlfn.XLOOKUP(TEXT(P23,"mm-yyyy"),TEXT('FASB Data'!$D$13:$BC$13,"mm-yyyy"),'FASB Data'!$D$13:$BC$13,,0)))} | T23: =IF(OR(S23="No Rate",S23="",S23=" "),"",IF(OR(WhichRate="GASB IBR",WhichRate="FASB IBR",WhichRate="Custom"),SUMIF('Market Data'!$C$13:$BI$13,Summary!S23,'Market Data'!$C$14:$BI$14),SUMIF('FASB Data'!$C$13:$BU$13,Summary!S23,'FASB Data'!$C$14:$BU$14))) | U23: =IFERROR(VLOOKUP($Y23,'Market Data'!$B$15:$C$47,2,TRUE)+1,"") | V23: =IF(OR(S23="No Rate",S23="",S23=" "),"",IF(WhichRate="FASB RFR","N/A",IF(Y23<=0.25,RatingCategory&"-0.25",IF(Y23<1,RatingCategory&"-0.5",RatingCategory&"-"&ROUND(Y23,3))))) | W23: =IF(OR(S23="No Rate",S23="",S23=" ",S23=""),"",IF(WhichRate="FASB RFR","N/A",SUMIF('Market Data'!$C$51:$BI$51,Summary!S23,'Market Data'!$C$52:$BI$52))) | X23: =IF(ISBLANK(P23)," ",IF(WhichRate="FASB RFR","N/A",IFERROR(VLOOKUP($V23,'Market Data'!$C$53:$D$213,2,FALSE),""))) | Y23: =IF(ISBLANK(P23)," ",IF(DAYS360(P23,Q23,0)>10800,30,ROUND(IF(DAYS360(Summary!$P23,Summary!$Q23)/360>=1,ROUND(DAYS360(Summary!$P23,Summary!$Q23)/360,0),DAYS360(Summary!$P23,Summary!$Q23)/360),2))) | Z23: =IF(OR(WhichRate="GASB IBR",WhichRate="FASB IBR",WhichRate="Custom"),IFERROR(IF(OR($S23="No Rate",$S23="",$S23=" ",$S23="")," ",OFFSET('Market Data'!$B$15,Summary!U23-1,Summary!T23-1)),""),IFERROR(IF(OR($S23="No Rate",$S23="",$S23=" ",$S23="")," ",OFFSET('FASB Data'!$B$15,Summary!U23-1,Summary!T23-1)),"")) | AA23: =IF(O23<>"",IF(WhichRate="FASB RFR",0,IF(OR(WhichRate="GASB IBR",WhichRate="FASB IBR"),IF(OR($S23="No Rate",$S23="",$S23=" "),"",OFFSET('Market Data'!$B$53,Summary!X23,Summary!W23-1)),IF(WhichRate="Custom",IF(OR($S23="No Rate",$S23="",$S23=" "),"",OFFSET('Custom Data'!$B$53,Summary!X23,Summary!W23-1)),""))),"") | AB23: =IF(OR($S23="No Rate",$S23="")," ",IF($R23="","",IF(Summary!$R23="Taxable",IF(Summary!$Y23>0,(Summary!$Z23+Summary!$AA23)*(1+TaxExemptRateAdjustment)),IF(Summary!$Y23>0,Summary!$Z23+Summary!$AA23)))) | AC23: =IF(Q23>0,IF(Q23-P23<365,"Possible Short Term Lease",""),"")
N24: =N23+1 -> 12 | S24: {=IF(ISBLANK(P24)," ",IF(OR(WhichRate="GASB IBR",WhichRate="FASB IBR",WhichRate="Custom"),IF(ISBLANK(P24),IFERROR(HLOOKUP(P24,'Market Data'!$C$13:$BA$13,1)," "),IFERROR(HLOOKUP(P24,'Market Data'!$C$13:$BA$13,1),"No Rate")),_xlfn.XLOOKUP(TEXT(P24,"mm-yyyy"),TEXT('FASB Data'!$D$13:$BC$13,"mm-yyyy"),'FASB Data'!$D$13:$BC$13,,0)))} | T24: =IF(OR(S24="No Rate",S24="",S24=" "),"",IF(OR(WhichRate="GASB IBR",WhichRate="FASB IBR",WhichRate="Custom"),SUMIF('Market Data'!$C$13:$BI$13,Summary!S24,'Market Data'!$C$14:$BI$14),SUMIF('FASB Data'!$C$13:$BU$13,Summary!S24,'FASB Data'!$C$14:$BU$14))) | U24: =IFERROR(VLOOKUP($Y24,'Market Data'!$B$15:$C$47,2,TRUE)+1,"") | V24: =IF(OR(S24="No Rate",S24="",S24=" "),"",IF(WhichRate="FASB RFR","N/A",IF(Y24<=0.25,RatingCategory&"-0.25",IF(Y24<1,RatingCategory&"-0.5",RatingCategory&"-"&ROUND(Y24,3))))) | W24: =IF(OR(S24="No Rate",S24="",S24=" ",S24=""),"",IF(WhichRate="FASB RFR","N/A",SUMIF('Market Data'!$C$51:$BI$51,Summary!S24,'Market Data'!$C$52:$BI$52))) | X24: =IF(ISBLANK(P24)," ",IF(WhichRate="FASB RFR","N/A",IFERROR(VLOOKUP($V24,'Market Data'!$C$53:$D$213,2,FALSE),""))) | Y24: =IF(ISBLANK(P24)," ",IF(DAYS360(P24,Q24,0)>10800,30,ROUND(IF(DAYS360(Summary!$P24,Summary!$Q24)/360>=1,ROUND(DAYS360(Summary!$P24,Summary!$Q24)/360,0),DAYS360(Summary!$P24,Summary!$Q24)/360),2))) | Z24: =IF(OR(WhichRate="GASB IBR",WhichRate="FASB IBR",WhichRate="Custom"),IFERROR(IF(OR($S24="No Rate",$S24="",$S24=" ",$S24="")," ",OFFSET('Market Data'!$B$15,Summary!U24-1,Summary!T24-1)),""),IFERROR(IF(OR($S24="No Rate",$S24="",$S24=" ",$S24="")," ",OFFSET('FASB Data'!$B$15,Summary!U24-1,Summary!T24-1)),"")) | AA24: =IF(O24<>"",IF(WhichRate="FASB RFR",0,IF(OR(WhichRate="GASB IBR",WhichRate="FASB IBR"),IF(OR($S24="No Rate",$S24="",$S24=" "),"",OFFSET('Market Data'!$B$53,Summary!X24,Summary!W24-1)),IF(WhichRate="Custom",IF(OR($S24="No Rate",$S24="",$S24=" "),"",OFFSET('Custom Data'!$B$53,Summary!X24,Summary!W24-1)),""))),"") | AB24: =IF(OR($S24="No Rate",$S24="")," ",IF($R24="","",IF(Summary!$R24="Taxable",IF(Summary!$Y24>0,(Summary!$Z24+Summary!$AA24)*(1+TaxExemptRateAdjustment)),IF(Summary!$Y24>0,Summary!$Z24+Summary!$AA24)))) | AC24: =IF(Q24>0,IF(Q24-P24<365,"Possible Short Term Lease",""),"")
N25: =N24+1 -> 13 | S25: {=IF(ISBLANK(P25)," ",IF(OR(WhichRate="GASB IBR",WhichRate="FASB IBR",WhichRate="Custom"),IF(ISBLANK(P25),IFERROR(HLOOKUP(P25,'Market Data'!$C$13:$BA$13,1)," "),IFERROR(HLOOKUP(P25,'Market Data'!$C$13:$BA$13,1),"No Rate")),_xlfn.XLOOKUP(TEXT(P25,"mm-yyyy"),TEXT('FASB Data'!$D$13:$BC$13,"mm-yyyy"),'FASB Data'!$D$13:$BC$13,,0)))} | T25: =IF(OR(S25="No Rate",S25="",S25=" "),"",IF(OR(WhichRate="GASB IBR",WhichRate="FASB IBR",WhichRate="Custom"),SUMIF('Market Data'!$C$13:$BI$13,Summary!S25,'Market Data'!$C$14:$BI$14),SUMIF('FASB Data'!$C$13:$BU$13,Summary!S25,'FASB Data'!$C$14:$BU$14))) | U25: =IFERROR(VLOOKUP($Y25,'Market Data'!$B$15:$C$47,2,TRUE)+1,"") | V25: =IF(OR(S25="No Rate",S25="",S25=" "),"",IF(WhichRate="FASB RFR","N/A",IF(Y25<=0.25,RatingCategory&"-0.25",IF(Y25<1,RatingCategory&"-0.5",RatingCategory&"-"&ROUND(Y25,3))))) | W25: =IF(OR(S25="No Rate",S25="",S25=" ",S25=""),"",IF(WhichRate="FASB RFR","N/A",SUMIF('Market Data'!$C$51:$BI$51,Summary!S25,'Market Data'!$C$52:$BI$52))) | X25: =IF(ISBLANK(P25)," ",IF(WhichRate="FASB RFR","N/A",IFERROR(VLOOKUP($V25,'Market Data'!$C$53:$D$213,2,FALSE),""))) | Y25: =IF(ISBLANK(P25)," ",IF(DAYS360(P25,Q25,0)>10800,30,ROUND(IF(DAYS360(Summary!$P25,Summary!$Q25)/360>=1,ROUND(DAYS360(Summary!$P25,Summary!$Q25)/360,0),DAYS360(Summary!$P25,Summary!$Q25)/360),2))) | Z25: =IF(OR(WhichRate="GASB IBR",WhichRate="FASB IBR",WhichRate="Custom"),IFERROR(IF(OR($S25="No Rate",$S25="",$S25=" ",$S25="")," ",OFFSET('Market Data'!$B$15,Summary!U25-1,Summary!T25-1)),""),IFERROR(IF(OR($S25="No Rate",$S25="",$S25=" ",$S25="")," ",OFFSET('FASB Data'!$B$15,Summary!U25-1,Summary!T25-1)),"")) | AA25: =IF(O25<>"",IF(WhichRate="FASB RFR",0,IF(OR(WhichRate="GASB IBR",WhichRate="FASB IBR"),IF(OR($S25="No Rate",$S25="",$S25=" "),"",OFFSET('Market Data'!$B$53,Summary!X25,Summary!W25-1)),IF(WhichRate="Custom",IF(OR($S25="No Rate",$S25="",$S25=" "),"",OFFSET('Custom Data'!$B$53,Summary!X25,Summary!W25-1)),""))),"") | AB25: =IF(OR($S25="No Rate",$S25="")," ",IF($R25="","",IF(Summary!$R25="Taxable",IF(Summary!$Y25>0,(Summary!$Z25+Summary!$AA25)*(1+TaxExemptRateAdjustment)),IF(Summary!$Y25>0,Summary!$Z25+Summary!$AA25)))) | AC25: =IF(Q25>0,IF(Q25-P25<365,"Possible Short Term Lease",""),"")
N26: =N25+1 -> 14 | S26: {=IF(ISBLANK(P26)," ",IF(OR(WhichRate="GASB IBR",WhichRate="FASB IBR",WhichRate="Custom"),IF(ISBLANK(P26),IFERROR(HLOOKUP(P26,'Market Data'!$C$13:$BA$13,1)," "),IFERROR(HLOOKUP(P26,'Market Data'!$C$13:$BA$13,1),"No Rate")),_xlfn.XLOOKUP(TEXT(P26,"mm-yyyy"),TEXT('FASB Data'!$D$13:$BC$13,"mm-yyyy"),'FASB Data'!$D$13:$BC$13,,0)))} | T26: =IF(OR(S26="No Rate",S26="",S26=" "),"",IF(OR(WhichRate="GASB IBR",WhichRate="FASB IBR",WhichRate="Custom"),SUMIF('Market Data'!$C$13:$BI$13,Summary!S26,'Market Data'!$C$14:$BI$14),SUMIF('FASB Data'!$C$13:$BU$13,Summary!S26,'FASB Data'!$C$14:$BU$14))) | U26: =IFERROR(VLOOKUP($Y26,'Market Data'!$B$15:$C$47,2,TRUE)+1,"") | V26: =IF(OR(S26="No Rate",S26="",S26=" "),"",IF(WhichRate="FASB RFR","N/A",IF(Y26<=0.25,RatingCategory&"-0.25",IF(Y26<1,RatingCategory&"-0.5",RatingCategory&"-"&ROUND(Y26,3))))) | W26: =IF(OR(S26="No Rate",S26="",S26=" ",S26=""),"",IF(WhichRate="FASB RFR","N/A",SUMIF('Market Data'!$C$51:$BI$51,Summary!S26,'Market Data'!$C$52:$BI$52))) | X26: =IF(ISBLANK(P26)," ",IF(WhichRate="FASB RFR","N/A",IFERROR(VLOOKUP($V26,'Market Data'!$C$53:$D$213,2,FALSE),""))) | Y26: =IF(ISBLANK(P26)," ",IF(DAYS360(P26,Q26,0)>10800,30,ROUND(IF(DAYS360(Summary!$P26,Summary!$Q26)/360>=1,ROUND(DAYS360(Summary!$P26,Summary!$Q26)/360,0),DAYS360(Summary!$P26,Summary!$Q26)/360),2))) | Z26: =IF(OR(WhichRate="GASB IBR",WhichRate="FASB IBR",WhichRate="Custom"),IFERROR(IF(OR($S26="No Rate",$S26="",$S26=" ",$S26="")," ",OFFSET('Market Data'!$B$15,Summary!U26-1,Summary!T26-1)),""),IFERROR(IF(OR($S26="No Rate",$S26="",$S26=" ",$S26="")," ",OFFSET('FASB Data'!$B$15,Summary!U26-1,Summary!T26-1)),"")) | AA26: =IF(O26<>"",IF(WhichRate="FASB RFR",0,IF(OR(WhichRate="GASB IBR",WhichRate="FASB IBR"),IF(OR($S26="No Rate",$S26="",$S26=" "),"",OFFSET('Market Data'!$B$53,Summary!X26,Summary!W26-1)),IF(WhichRate="Custom",IF(OR($S26="No Rate",$S26="",$S26=" "),"",OFFSET('Custom Data'!$B$53,Summary!X26,Summary!W26-1)),""))),"") | AB26: =IF(OR($S26="No Rate",$S26="")," ",IF($R26="","",IF(Summary!$R26="Taxable",IF(Summary!$Y26>0,(Summary!$Z26+Summary!$AA26)*(1+TaxExemptRateAdjustment)),IF(Summary!$Y26>0,Summary!$Z26+Summary!$AA26))))
N27: =N26+1 -> 15 | S27: {=IF(ISBLANK(P27)," ",IF(OR(WhichRate="GASB IBR",WhichRate="FASB IBR",WhichRate="Custom"),IF(ISBLANK(P27),IFERROR(HLOOKUP(P27,'Market Data'!$C$13:$BA$13,1)," "),IFERROR(HLOOKUP(P27,'Market Data'!$C$13:$BA$13,1),"No Rate")),_xlfn.XLOOKUP(TEXT(P27,"mm-yyyy"),TEXT('FASB Data'!$D$13:$BC$13,"mm-yyyy"),'FASB Data'!$D$13:$BC$13,,0)))} | T27: =IF(OR(S27="No Rate",S27="",S27=" "),"",IF(OR(WhichRate="GASB IBR",WhichRate="FASB IBR",WhichRate="Custom"),SUMIF('Market Data'!$C$13:$BI$13,Summary!S27,'Market Data'!$C$14:$BI$14),SUMIF('FASB Data'!$C$13:$BU$13,Summary!S27,'FASB Data'!$C$14:$BU$14))) | U27: =IFERROR(VLOOKUP($Y27,'Market Data'!$B$15:$C$47,2,TRUE)+1,"") | V27: =IF(OR(S27="No Rate",S27="",S27=" "),"",IF(WhichRate="FASB RFR","N/A",IF(Y27<=0.25,RatingCategory&"-0.25",IF(Y27<1,RatingCategory&"-0.5",RatingCategory&"-"&ROUND(Y27,3))))) | W27: =IF(OR(S27="No Rate",S27="",S27=" ",S27=""),"",IF(WhichRate="FASB RFR","N/A",SUMIF('Market Data'!$C$51:$BI$51,Summary!S27,'Market Data'!$C$52:$BI$52))) | X27: =IF(ISBLANK(P27)," ",IF(WhichRate="FASB RFR","N/A",IFERROR(VLOOKUP($V27,'Market Data'!$C$53:$D$213,2,FALSE),""))) | Y27: =IF(ISBLANK(P27)," ",IF(DAYS360(P27,Q27,0)>10800,30,ROUND(IF(DAYS360(Summary!$P27,Summary!$Q27)/360>=1,ROUND(DAYS360(Summary!$P27,Summary!$Q27)/360,0),DAYS360(Summary!$P27,Summary!$Q27)/360),2))) | Z27: =IF(OR(WhichRate="GASB IBR",WhichRate="FASB IBR",WhichRate="Custom"),IFERROR(IF(OR($S27="No Rate",$S27="",$S27=" ",$S27="")," ",OFFSET('Market Data'!$B$15,Summary!U27-1,Summary!T27-1)),""),IFERROR(IF(OR($S27="No Rate",$S27="",$S27=" ",$S27="")," ",OFFSET('FASB Data'!$B$15,Summary!U27-1,Summary!T27-1)),"")) | AA27: =IF(O27<>"",IF(WhichRate="FASB RFR",0,IF(OR(WhichRate="GASB IBR",WhichRate="FASB IBR"),IF(OR($S27="No Rate",$S27="",$S27=" "),"",OFFSET('Market Data'!$B$53,Summary!X27,Summary!W27-1)),IF(WhichRate="Custom",IF(OR($S27="No Rate",$S27="",$S27=" "),"",OFFSET('Custom Data'!$B$53,Summary!X27,Summary!W27-1)),""))),"") | AB27: =IF(OR($S27="No Rate",$S27="")," ",IF($R27="","",IF(Summary!$R27="Taxable",IF(Summary!$Y27>0,(Summary!$Z27+Summary!$AA27)*(1+TaxExemptRateAdjustment)),IF(Summary!$Y27>0,Summary!$Z27+Summary!$AA27)))) | AC27: =IF(Q27>0,IF(Q27-P27<365,"Possible Short Term Lease",""),"")
N28: =N27+1 -> 16 | S28: {=IF(ISBLANK(P28)," ",IF(OR(WhichRate="GASB IBR",WhichRate="FASB IBR",WhichRate="Custom"),IF(ISBLANK(P28),IFERROR(HLOOKUP(P28,'Market Data'!$C$13:$BA$13,1)," "),IFERROR(HLOOKUP(P28,'Market Data'!$C$13:$BA$13,1),"No Rate")),_xlfn.XLOOKUP(TEXT(P28,"mm-yyyy"),TEXT('FASB Data'!$D$13:$BC$13,"mm-yyyy"),'FASB Data'!$D$13:$BC$13,,0)))} | T28: =IF(OR(S28="No Rate",S28="",S28=" "),"",IF(OR(WhichRate="GASB IBR",WhichRate="FASB IBR",WhichRate="Custom"),SUMIF('Market Data'!$C$13:$BI$13,Summary!S28,'Market Data'!$C$14:$BI$14),SUMIF('FASB Data'!$C$13:$BU$13,Summary!S28,'FASB Data'!$C$14:$BU$14))) | U28: =IFERROR(VLOOKUP($Y28,'Market Data'!$B$15:$C$47,2,TRUE)+1,"") | V28: =IF(OR(S28="No Rate",S28="",S28=" "),"",IF(WhichRate="FASB RFR","N/A",IF(Y28<=0.25,RatingCategory&"-0.25",IF(Y28<1,RatingCategory&"-0.5",RatingCategory&"-"&ROUND(Y28,3))))) | W28: =IF(OR(S28="No Rate",S28="",S28=" ",S28=""),"",IF(WhichRate="FASB RFR","N/A",SUMIF('Market Data'!$C$51:$BI$51,Summary!S28,'Market Data'!$C$52:$BI$52))) | X28: =IF(ISBLANK(P28)," ",IF(WhichRate="FASB RFR","N/A",IFERROR(VLOOKUP($V28,'Market Data'!$C$53:$D$213,2,FALSE),""))) | Y28: =IF(ISBLANK(P28)," ",IF(DAYS360(P28,Q28,0)>10800,30,ROUND(IF(DAYS360(Summary!$P28,Summary!$Q28)/360>=1,ROUND(DAYS360(Summary!$P28,Summary!$Q28)/360,0),DAYS360(Summary!$P28,Summary!$Q28)/360),2))) | Z28: =IF(OR(WhichRate="GASB IBR",WhichRate="FASB IBR",WhichRate="Custom"),IFERROR(IF(OR($S28="No Rate",$S28="",$S28=" ",$S28="")," ",OFFSET('Market Data'!$B$15,Summary!U28-1,Summary!T28-1)),""),IFERROR(IF(OR($S28="No Rate",$S28="",$S28=" ",$S28="")," ",OFFSET('FASB Data'!$B$15,Summary!U28-1,Summary!T28-1)),"")) | AA28: =IF(O28<>"",IF(WhichRate="FASB RFR",0,IF(OR(WhichRate="GASB IBR",WhichRate="FASB IBR"),IF(OR($S28="No Rate",$S28="",$S28=" "),"",OFFSET('Market Data'!$B$53,Summary!X28,Summary!W28-1)),IF(WhichRate="Custom",IF(OR($S28="No Rate",$S28="",$S28=" "),"",OFFSET('Custom Data'!$B$53,Summary!X28,Summary!W28-1)),""))),"") | AB28: =IF(OR($S28="No Rate",$S28="")," ",IF($R28="","",IF(Summary!$R28="Taxable",IF(Summary!$Y28>0,(Summary!$Z28+Summary!$AA28)*(1+TaxExemptRateAdjustment)),IF(Summary!$Y28>0,Summary!$Z28+Summary!$AA28)))) | AC28: =IF(Q28>0,IF(Q28-P28<365,"Possible Short Term Lease",""),"")
N29: =N28+1 -> 17 | S29: {=IF(ISBLANK(P29)," ",IF(OR(WhichRate="GASB IBR",WhichRate="FASB IBR",WhichRate="Custom"),IF(ISBLANK(P29),IFERROR(HLOOKUP(P29,'Market Data'!$C$13:$BA$13,1)," "),IFERROR(HLOOKUP(P29,'Market Data'!$C$13:$BA$13,1),"No Rate")),_xlfn.XLOOKUP(TEXT(P29,"mm-yyyy"),TEXT('FASB Data'!$D$13:$BC$13,"mm-yyyy"),'FASB Data'!$D$13:$BC$13,,0)))} | T29: =IF(OR(S29="No Rate",S29="",S29=" "),"",IF(OR(WhichRate="GASB IBR",WhichRate="FASB IBR",WhichRate="Custom"),SUMIF('Market Data'!$C$13:$BI$13,Summary!S29,'Market Data'!$C$14:$BI$14),SUMIF('FASB Data'!$C$13:$BU$13,Summary!S29,'FASB Data'!$C$14:$BU$14))) | U29: =IFERROR(VLOOKUP($Y29,'Market Data'!$B$15:$C$47,2,TRUE)+1,"") | V29: =IF(OR(S29="No Rate",S29="",S29=" "),"",IF(WhichRate="FASB RFR","N/A",IF(Y29<=0.25,RatingCategory&"-0.25",IF(Y29<1,RatingCategory&"-0.5",RatingCategory&"-"&ROUND(Y29,3))))) | W29: =IF(OR(S29="No Rate",S29="",S29=" ",S29=""),"",IF(WhichRate="FASB RFR","N/A",SUMIF('Market Data'!$C$51:$BI$51,Summary!S29,'Market Data'!$C$52:$BI$52))) | X29: =IF(ISBLANK(P29)," ",IF(WhichRate="FASB RFR","N/A",IFERROR(VLOOKUP($V29,'Market Data'!$C$53:$D$213,2,FALSE),""))) | Y29: =IF(ISBLANK(P29)," ",IF(DAYS360(P29,Q29,0)>10800,30,ROUND(IF(DAYS360(Summary!$P29,Summary!$Q29)/360>=1,ROUND(DAYS360(Summary!$P29,Summary!$Q29)/360,0),DAYS360(Summary!$P29,Summary!$Q29)/360),2))) | Z29: =IF(OR(WhichRate="GASB IBR",WhichRate="FASB IBR",WhichRate="Custom"),IFERROR(IF(OR($S29="No Rate",$S29="",$S29=" ",$S29="")," ",OFFSET('Market Data'!$B$15,Summary!U29-1,Summary!T29-1)),""),IFERROR(IF(OR($S29="No Rate",$S29="",$S29=" ",$S29="")," ",OFFSET('FASB Data'!$B$15,Summary!U29-1,Summary!T29-1)),"")) | AA29: =IF(O29<>"",IF(WhichRate="FASB RFR",0,IF(OR(WhichRate="GASB IBR",WhichRate="FASB IBR"),IF(OR($S29="No Rate",$S29="",$S29=" "),"",OFFSET('Market Data'!$B$53,Summary!X29,Summary!W29-1)),IF(WhichRate="Custom",IF(OR($S29="No Rate",$S29="",$S29=" "),"",OFFSET('Custom Data'!$B$53,Summary!X29,Summary!W29-1)),""))),"") | AB29: =IF(OR($S29="No Rate",$S29="")," ",IF($R29="","",IF(Summary!$R29="Taxable",IF(Summary!$Y29>0,(Summary!$Z29+Summary!$AA29)*(1+TaxExemptRateAdjustment)),IF(Summary!$Y29>0,Summary!$Z29+Summary!$AA29)))) | AC29: =IF(Q29>0,IF(Q29-P29<365,"Possible Short Term Lease",""),"")
N30: =N29+1 -> 18 | S30: {=IF(ISBLANK(P30)," ",IF(OR(WhichRate="GASB IBR",WhichRate="FASB IBR",WhichRate="Custom"),IF(ISBLANK(P30),IFERROR(HLOOKUP(P30,'Market Data'!$C$13:$BA$13,1)," "),IFERROR(HLOOKUP(P30,'Market Data'!$C$13:$BA$13,1),"No Rate")),_xlfn.XLOOKUP(TEXT(P30,"mm-yyyy"),TEXT('FASB Data'!$D$13:$BC$13,"mm-yyyy"),'FASB Data'!$D$13:$BC$13,,0)))} | T30: =IF(OR(S30="No Rate",S30="",S30=" "),"",IF(OR(WhichRate="GASB IBR",WhichRate="FASB IBR",WhichRate="Custom"),SUMIF('Market Data'!$C$13:$BI$13,Summary!S30,'Market Data'!$C$14:$BI$14),SUMIF('FASB Data'!$C$13:$BU$13,Summary!S30,'FASB Data'!$C$14:$BU$14))) | U30: =IFERROR(VLOOKUP($Y30,'Market Data'!$B$15:$C$47,2,TRUE)+1,"") | V30: =IF(OR(S30="No Rate",S30="",S30=" "),"",IF(WhichRate="FASB RFR","N/A",IF(Y30<=0.25,RatingCategory&"-0.25",IF(Y30<1,RatingCategory&"-0.5",RatingCategory&"-"&ROUND(Y30,3))))) | W30: =IF(OR(S30="No Rate",S30="",S30=" ",S30=""),"",IF(WhichRate="FASB RFR","N/A",SUMIF('Market Data'!$C$51:$BI$51,Summary!S30,'Market Data'!$C$52:$BI$52))) | X30: =IF(ISBLANK(P30)," ",IF(WhichRate="FASB RFR","N/A",IFERROR(VLOOKUP($V30,'Market Data'!$C$53:$D$213,2,FALSE),""))) | Y30: =IF(ISBLANK(P30)," ",IF(DAYS360(P30,Q30,0)>10800,30,ROUND(IF(DAYS360(Summary!$P30,Summary!$Q30)/360>=1,ROUND(DAYS360(Summary!$P30,Summary!$Q30)/360,0),DAYS360(Summary!$P30,Summary!$Q30)/360),2))) | Z30: =IF(OR(WhichRate="GASB IBR",WhichRate="FASB IBR",WhichRate="Custom"),IFERROR(IF(OR($S30="No Rate",$S30="",$S30=" ",$S30="")," ",OFFSET('Market Data'!$B$15,Summary!U30-1,Summary!T30-1)),""),IFERROR(IF(OR($S30="No Rate",$S30="",$S30=" ",$S30="")," ",OFFSET('FASB Data'!$B$15,Summary!U30-1,Summary!T30-1)),"")) | AA30: =IF(O30<>"",IF(WhichRate="FASB RFR",0,IF(OR(WhichRate="GASB IBR",WhichRate="FASB IBR"),IF(OR($S30="No Rate",$S30="",$S30=" "),"",OFFSET('Market Data'!$B$53,Summary!X30,Summary!W30-1)),IF(WhichRate="Custom",IF(OR($S30="No Rate",$S30="",$S30=" "),"",OFFSET('Custom Data'!$B$53,Summary!X30,Summary!W30-1)),""))),"") | AB30: =IF(OR($S30="No Rate",$S30="")," ",IF($R30="","",IF(Summary!$R30="Taxable",IF(Summary!$Y30>0,(Summary!$Z30+Summary!$AA30)*(1+TaxExemptRateAdjustment)),IF(Summary!$Y30>0,Summary!$Z30+Summary!$AA30)))) | AC30: =IF(Q30>0,IF(Q30-P30<365,"Possible Short Term Lease",""),"")
N31: =N30+1 -> 19 | S31: {=IF(ISBLANK(P31)," ",IF(OR(WhichRate="GASB IBR",WhichRate="FASB IBR",WhichRate="Custom"),IF(ISBLANK(P31),IFERROR(HLOOKUP(P31,'Market Data'!$C$13:$BA$13,1)," "),IFERROR(HLOOKUP(P31,'Market Data'!$C$13:$BA$13,1),"No Rate")),_xlfn.XLOOKUP(TEXT(P31,"mm-yyyy"),TEXT('FASB Data'!$D$13:$BC$13,"mm-yyyy"),'FASB Data'!$D$13:$BC$13,,0)))} | T31: =IF(OR(S31="No Rate",S31="",S31=" "),"",IF(OR(WhichRate="GASB IBR",WhichRate="FASB IBR",WhichRate="Custom"),SUMIF('Market Data'!$C$13:$BI$13,Summary!S31,'Market Data'!$C$14:$BI$14),SUMIF('FASB Data'!$C$13:$BU$13,Summary!S31,'FASB Data'!$C$14:$BU$14))) | U31: =IFERROR(VLOOKUP($Y31,'Market Data'!$B$15:$C$47,2,TRUE)+1,"") | V31: =IF(OR(S31="No Rate",S31="",S31=" "),"",IF(WhichRate="FASB RFR","N/A",IF(Y31<=0.25,RatingCategory&"-0.25",IF(Y31<1,RatingCategory&"-0.5",RatingCategory&"-"&ROUND(Y31,3))))) | W31: =IF(OR(S31="No Rate",S31="",S31=" ",S31=""),"",IF(WhichRate="FASB RFR","N/A",SUMIF('Market Data'!$C$51:$BI$51,Summary!S31,'Market Data'!$C$52:$BI$52))) | X31: =IF(ISBLANK(P31)," ",IF(WhichRate="FASB RFR","N/A",IFERROR(VLOOKUP($V31,'Market Data'!$C$53:$D$213,2,FALSE),""))) | Y31: =IF(ISBLANK(P31)," ",IF(DAYS360(P31,Q31,0)>10800,30,ROUND(IF(DAYS360(Summary!$P31,Summary!$Q31)/360>=1,ROUND(DAYS360(Summary!$P31,Summary!$Q31)/360,0),DAYS360(Summary!$P31,Summary!$Q31)/360),2))) | Z31: =IF(OR(WhichRate="GASB IBR",WhichRate="FASB IBR",WhichRate="Custom"),IFERROR(IF(OR($S31="No Rate",$S31="",$S31=" ",$S31="")," ",OFFSET('Market Data'!$B$15,Summary!U31-1,Summary!T31-1)),""),IFERROR(IF(OR($S31="No Rate",$S31="",$S31=" ",$S31="")," ",OFFSET('FASB Data'!$B$15,Summary!U31-1,Summary!T31-1)),"")) | AA31: =IF(O31<>"",IF(WhichRate="FASB RFR",0,IF(OR(WhichRate="GASB IBR",WhichRate="FASB IBR"),IF(OR($S31="No Rate",$S31="",$S31=" "),"",OFFSET('Market Data'!$B$53,Summary!X31,Summary!W31-1)),IF(WhichRate="Custom",IF(OR($S31="No Rate",$S31="",$S31=" "),"",OFFSET('Custom Data'!$B$53,Summary!X31,Summary!W31-1)),""))),"") | AB31: =IF(OR($S31="No Rate",$S31="")," ",IF($R31="","",IF(Summary!$R31="Taxable",IF(Summary!$Y31>0,(Summary!$Z31+Summary!$AA31)*(1+TaxExemptRateAdjustment)),IF(Summary!$Y31>0,Summary!$Z31+Summary!$AA31)))) | AC31: =IF(Q31>0,IF(Q31-P31<365,"Possible Short Term Lease",""),"")
N32: =N31+1 -> 20 | S32: {=IF(ISBLANK(P32)," ",IF(OR(WhichRate="GASB IBR",WhichRate="FASB IBR",WhichRate="Custom"),IF(ISBLANK(P32),IFERROR(HLOOKUP(P32,'Market Data'!$C$13:$BA$13,1)," "),IFERROR(HLOOKUP(P32,'Market Data'!$C$13:$BA$13,1),"No Rate")),_xlfn.XLOOKUP(TEXT(P32,"mm-yyyy"),TEXT('FASB Data'!$D$13:$BC$13,"mm-yyyy"),'FASB Data'!$D$13:$BC$13,,0)))} | T32: =IF(OR(S32="No Rate",S32="",S32=" "),"",IF(OR(WhichRate="GASB IBR",WhichRate="FASB IBR",WhichRate="Custom"),SUMIF('Market Data'!$C$13:$BI$13,Summary!S32,'Market Data'!$C$14:$BI$14),SUMIF('FASB Data'!$C$13:$BU$13,Summary!S32,'FASB Data'!$C$14:$BU$14))) | U32: =IFERROR(VLOOKUP($Y32,'Market Data'!$B$15:$C$47,2,TRUE)+1,"") | V32: =IF(OR(S32="No Rate",S32="",S32=" "),"",IF(WhichRate="FASB RFR","N/A",IF(Y32<=0.25,RatingCategory&"-0.25",IF(Y32<1,RatingCategory&"-0.5",RatingCategory&"-"&ROUND(Y32,3))))) | W32: =IF(OR(S32="No Rate",S32="",S32=" ",S32=""),"",IF(WhichRate="FASB RFR","N/A",SUMIF('Market Data'!$C$51:$BI$51,Summary!S32,'Market Data'!$C$52:$BI$52))) | X32: =IF(ISBLANK(P32)," ",IF(WhichRate="FASB RFR","N/A",IFERROR(VLOOKUP($V32,'Market Data'!$C$53:$D$213,2,FALSE),""))) | Y32: =IF(ISBLANK(P32)," ",IF(DAYS360(P32,Q32,0)>10800,30,ROUND(IF(DAYS360(Summary!$P32,Summary!$Q32)/360>=1,ROUND(DAYS360(Summary!$P32,Summary!$Q32)/360,0),DAYS360(Summary!$P32,Summary!$Q32)/360),2))) | Z32: =IF(OR(WhichRate="GASB IBR",WhichRate="FASB IBR",WhichRate="Custom"),IFERROR(IF(OR($S32="No Rate",$S32="",$S32=" ",$S32="")," ",OFFSET('Market Data'!$B$15,Summary!U32-1,Summary!T32-1)),""),IFERROR(IF(OR($S32="No Rate",$S32="",$S32=" ",$S32="")," ",OFFSET('FASB Data'!$B$15,Summary!U32-1,Summary!T32-1)),"")) | AA32: =IF(O32<>"",IF(WhichRate="FASB RFR",0,IF(OR(WhichRate="GASB IBR",WhichRate="FASB IBR"),IF(OR($S32="No Rate",$S32="",$S32=" "),"",OFFSET('Market Data'!$B$53,Summary!X32,Summary!W32-1)),IF(WhichRate="Custom",IF(OR($S32="No Rate",$S32="",$S32=" "),"",OFFSET('Custom Data'!$B$53,Summary!X32,Summary!W32-1)),""))),"") | AB32: =IF(OR($S32="No Rate",$S32="")," ",IF($R32="","",IF(Summary!$R32="Taxable",IF(Summary!$Y32>0,(Summary!$Z32+Summary!$AA32)*(1+TaxExemptRateAdjustment)),IF(Summary!$Y32>0,Summary!$Z32+Summary!$AA32)))) | AC32: =IF(Q32>0,IF(Q32-P32<365,"Possible Short Term Lease",""),"")
N33: =N32+1 -> 21 | S33: {=IF(ISBLANK(P33)," ",IF(OR(WhichRate="GASB IBR",WhichRate="FASB IBR",WhichRate="Custom"),IF(ISBLANK(P33),IFERROR(HLOOKUP(P33,'Market Data'!$C$13:$BA$13,1)," "),IFERROR(HLOOKUP(P33,'Market Data'!$C$13:$BA$13,1),"No Rate")),_xlfn.XLOOKUP(TEXT(P33,"mm-yyyy"),TEXT('FASB Data'!$D$13:$BC$13,"mm-yyyy"),'FASB Data'!$D$13:$BC$13,,0)))} | T33: =IF(OR(S33="No Rate",S33="",S33=" "),"",IF(OR(WhichRate="GASB IBR",WhichRate="FASB IBR",WhichRate="Custom"),SUMIF('Market Data'!$C$13:$BI$13,Summary!S33,'Market Data'!$C$14:$BI$14),SUMIF('FASB Data'!$C$13:$BU$13,Summary!S33,'FASB Data'!$C$14:$BU$14))) | U33: =IFERROR(VLOOKUP($Y33,'Market Data'!$B$15:$C$47,2,TRUE)+1,"") | V33: =IF(OR(S33="No Rate",S33="",S33=" "),"",IF(WhichRate="FASB RFR","N/A",IF(Y33<=0.25,RatingCategory&"-0.25",IF(Y33<1,RatingCategory&"-0.5",RatingCategory&"-"&ROUND(Y33,3))))) | W33: =IF(OR(S33="No Rate",S33="",S33=" ",S33=""),"",IF(WhichRate="FASB RFR","N/A",SUMIF('Market Data'!$C$51:$BI$51,Summary!S33,'Market Data'!$C$52:$BI$52))) | X33: =IF(ISBLANK(P33)," ",IF(WhichRate="FASB RFR","N/A",IFERROR(VLOOKUP($V33,'Market Data'!$C$53:$D$213,2,FALSE),""))) | Y33: =IF(ISBLANK(P33)," ",IF(DAYS360(P33,Q33,0)>10800,30,ROUND(IF(DAYS360(Summary!$P33,Summary!$Q33)/360>=1,ROUND(DAYS360(Summary!$P33,Summary!$Q33)/360,0),DAYS360(Summary!$P33,Summary!$Q33)/360),2))) | Z33: =IF(OR(WhichRate="GASB IBR",WhichRate="FASB IBR",WhichRate="Custom"),IFERROR(IF(OR($S33="No Rate",$S33="",$S33=" ",$S33="")," ",OFFSET('Market Data'!$B$15,Summary!U33-1,Summary!T33-1)),""),IFERROR(IF(OR($S33="No Rate",$S33="",$S33=" ",$S33="")," ",OFFSET('FASB Data'!$B$15,Summary!U33-1,Summary!T33-1)),"")) | AA33: =IF(O33<>"",IF(WhichRate="FASB RFR",0,IF(OR(WhichRate="GASB IBR",WhichRate="FASB IBR"),IF(OR($S33="No Rate",$S33="",$S33=" "),"",OFFSET('Market Data'!$B$53,Summary!X33,Summary!W33-1)),IF(WhichRate="Custom",IF(OR($S33="No Rate",$S33="",$S33=" "),"",OFFSET('Custom Data'!$B$53,Summary!X33,Summary!W33-1)),""))),"") | AB33: =IF(OR($S33="No Rate",$S33="")," ",IF($R33="","",IF(Summary!$R33="Taxable",IF(Summary!$Y33>0,(Summary!$Z33+Summary!$AA33)*(1+TaxExemptRateAdjustment)),IF(Summary!$Y33>0,Summary!$Z33+Summary!$AA33)))) | AC33: =IF(Q33>0,IF(Q33-P33<365,"Possible Short Term Lease",""),"")
N34: =N33+1 -> 22 | S34: {=IF(ISBLANK(P34)," ",IF(OR(WhichRate="GASB IBR",WhichRate="FASB IBR",WhichRate="Custom"),IF(ISBLANK(P34),IFERROR(HLOOKUP(P34,'Market Data'!$C$13:$BA$13,1)," "),IFERROR(HLOOKUP(P34,'Market Data'!$C$13:$BA$13,1),"No Rate")),_xlfn.XLOOKUP(TEXT(P34,"mm-yyyy"),TEXT('FASB Data'!$D$13:$BC$13,"mm-yyyy"),'FASB Data'!$D$13:$BC$13,,0)))} | T34: =IF(OR(S34="No Rate",S34="",S34=" "),"",IF(OR(WhichRate="GASB IBR",WhichRate="FASB IBR",WhichRate="Custom"),SUMIF('Market Data'!$C$13:$BI$13,Summary!S34,'Market Data'!$C$14:$BI$14),SUMIF('FASB Data'!$C$13:$BU$13,Summary!S34,'FASB Data'!$C$14:$BU$14))) | U34: =IFERROR(VLOOKUP($Y34,'Market Data'!$B$15:$C$47,2,TRUE)+1,"") | V34: =IF(OR(S34="No Rate",S34="",S34=" "),"",IF(WhichRate="FASB RFR","N/A",IF(Y34<=0.25,RatingCategory&"-0.25",IF(Y34<1,RatingCategory&"-0.5",RatingCategory&"-"&ROUND(Y34,3))))) | W34: =IF(OR(S34="No Rate",S34="",S34=" ",S34=""),"",IF(WhichRate="FASB RFR","N/A",SUMIF('Market Data'!$C$51:$BI$51,Summary!S34,'Market Data'!$C$52:$BI$52))) | X34: =IF(ISBLANK(P34)," ",IF(WhichRate="FASB RFR","N/A",IFERROR(VLOOKUP($V34,'Market Data'!$C$53:$D$213,2,FALSE),""))) | Y34: =IF(ISBLANK(P34)," ",IF(DAYS360(P34,Q34,0)>10800,30,ROUND(IF(DAYS360(Summary!$P34,Summary!$Q34)/360>=1,ROUND(DAYS360(Summary!$P34,Summary!$Q34)/360,0),DAYS360(Summary!$P34,Summary!$Q34)/360),2))) | Z34: =IF(OR(WhichRate="GASB IBR",WhichRate="FASB IBR",WhichRate="Custom"),IFERROR(IF(OR($S34="No Rate",$S34="",$S34=" ",$S34="")," ",OFFSET('Market Data'!$B$15,Summary!U34-1,Summary!T34-1)),""),IFERROR(IF(OR($S34="No Rate",$S34="",$S34=" ",$S34="")," ",OFFSET('FASB Data'!$B$15,Summary!U34-1,Summary!T34-1)),"")) | AA34: =IF(O34<>"",IF(WhichRate="FASB RFR",0,IF(OR(WhichRate="GASB IBR",WhichRate="FASB IBR"),IF(OR($S34="No Rate",$S34="",$S34=" "),"",OFFSET('Market Data'!$B$53,Summary!X34,Summary!W34-1)),IF(WhichRate="Custom",IF(OR($S34="No Rate",$S34="",$S34=" "),"",OFFSET('Custom Data'!$B$53,Summary!X34,Summary!W34-1)),""))),"") | AB34: =IF(OR($S34="No Rate",$S34="")," ",IF($R34="","",IF(Summary!$R34="Taxable",IF(Summary!$Y34>0,(Summary!$Z34+Summary!$AA34)*(1+TaxExemptRateAdjustment)),IF(Summary!$Y34>0,Summary!$Z34+Summary!$AA34)))) | AC34: =IF(Q34>0,IF(Q34-P34<365,"Possible Short Term Lease",""),"")
N35: =N34+1 -> 23 | S35: {=IF(ISBLANK(P35)," ",IF(OR(WhichRate="GASB IBR",WhichRate="FASB IBR",WhichRate="Custom"),IF(ISBLANK(P35),IFERROR(HLOOKUP(P35,'Market Data'!$C$13:$BA$13,1)," "),IFERROR(HLOOKUP(P35,'Market Data'!$C$13:$BA$13,1),"No Rate")),_xlfn.XLOOKUP(TEXT(P35,"mm-yyyy"),TEXT('FASB Data'!$D$13:$BC$13,"mm-yyyy"),'FASB Data'!$D$13:$BC$13,,0)))} | T35: =IF(OR(S35="No Rate",S35="",S35=" "),"",IF(OR(WhichRate="GASB IBR",WhichRate="FASB IBR",WhichRate="Custom"),SUMIF('Market Data'!$C$13:$BI$13,Summary!S35,'Market Data'!$C$14:$BI$14),SUMIF('FASB Data'!$C$13:$BU$13,Summary!S35,'FASB Data'!$C$14:$BU$14))) | U35: =IFERROR(VLOOKUP($Y35,'Market Data'!$B$15:$C$47,2,TRUE)+1,"") | V35: =IF(OR(S35="No Rate",S35="",S35=" "),"",IF(WhichRate="FASB RFR","N/A",IF(Y35<=0.25,RatingCategory&"-0.25",IF(Y35<1,RatingCategory&"-0.5",RatingCategory&"-"&ROUND(Y35,3))))) | W35: =IF(OR(S35="No Rate",S35="",S35=" ",S35=""),"",IF(WhichRate="FASB RFR","N/A",SUMIF('Market Data'!$C$51:$BI$51,Summary!S35,'Market Data'!$C$52:$BI$52))) | X35: =IF(ISBLANK(P35)," ",IF(WhichRate="FASB RFR","N/A",IFERROR(VLOOKUP($V35,'Market Data'!$C$53:$D$213,2,FALSE),""))) | Y35: =IF(ISBLANK(P35)," ",IF(DAYS360(P35,Q35,0)>10800,30,ROUND(IF(DAYS360(Summary!$P35,Summary!$Q35)/360>=1,ROUND(DAYS360(Summary!$P35,Summary!$Q35)/360,0),DAYS360(Summary!$P35,Summary!$Q35)/360),2))) | Z35: =IF(OR(WhichRate="GASB IBR",WhichRate="FASB IBR",WhichRate="Custom"),IFERROR(IF(OR($S35="No Rate",$S35="",$S35=" ",$S35="")," ",OFFSET('Market Data'!$B$15,Summary!U35-1,Summary!T35-1)),""),IFERROR(IF(OR($S35="No Rate",$S35="",$S35=" ",$S35="")," ",OFFSET('FASB Data'!$B$15,Summary!U35-1,Summary!T35-1)),"")) | AA35: =IF(O35<>"",IF(WhichRate="FASB RFR",0,IF(OR(WhichRate="GASB IBR",WhichRate="FASB IBR"),IF(OR($S35="No Rate",$S35="",$S35=" "),"",OFFSET('Market Data'!$B$53,Summary!X35,Summary!W35-1)),IF(WhichRate="Custom",IF(OR($S35="No Rate",$S35="",$S35=" "),"",OFFSET('Custom Data'!$B$53,Summary!X35,Summary!W35-1)),""))),"") | AB35: =IF(OR($S35="No Rate",$S35="")," ",IF($R35="","",IF(Summary!$R35="Taxable",IF(Summary!$Y35>0,(Summary!$Z35+Summary!$AA35)*(1+TaxExemptRateAdjustment)),IF(Summary!$Y35>0,Summary!$Z35+Summary!$AA35)))) | AC35: =IF(Q35>0,IF(Q35-P35<365,"Possible Short Term Lease",""),"")
N36: =N35+1 -> 24 | S36: {=IF(ISBLANK(P36)," ",IF(OR(WhichRate="GASB IBR",WhichRate="FASB IBR",WhichRate="Custom"),IF(ISBLANK(P36),IFERROR(HLOOKUP(P36,'Market Data'!$C$13:$BA$13,1)," "),IFERROR(HLOOKUP(P36,'Market Data'!$C$13:$BA$13,1),"No Rate")),_xlfn.XLOOKUP(TEXT(P36,"mm-yyyy"),TEXT('FASB Data'!$D$13:$BC$13,"mm-yyyy"),'FASB Data'!$D$13:$BC$13,,0)))} | T36: =IF(OR(S36="No Rate",S36="",S36=" "),"",IF(OR(WhichRate="GASB IBR",WhichRate="FASB IBR",WhichRate="Custom"),SUMIF('Market Data'!$C$13:$BI$13,Summary!S36,'Market Data'!$C$14:$BI$14),SUMIF('FASB Data'!$C$13:$BU$13,Summary!S36,'FASB Data'!$C$14:$BU$14))) | U36: =IFERROR(VLOOKUP($Y36,'Market Data'!$B$15:$C$47,2,TRUE)+1,"") | V36: =IF(OR(S36="No Rate",S36="",S36=" "),"",IF(WhichRate="FASB RFR","N/A",IF(Y36<=0.25,RatingCategory&"-0.25",IF(Y36<1,RatingCategory&"-0.5",RatingCategory&"-"&ROUND(Y36,3))))) | W36: =IF(OR(S36="No Rate",S36="",S36=" ",S36=""),"",IF(WhichRate="FASB RFR","N/A",SUMIF('Market Data'!$C$51:$BI$51,Summary!S36,'Market Data'!$C$52:$BI$52))) | X36: =IF(ISBLANK(P36)," ",IF(WhichRate="FASB RFR","N/A",IFERROR(VLOOKUP($V36,'Market Data'!$C$53:$D$213,2,FALSE),""))) | Y36: =IF(ISBLANK(P36)," ",IF(DAYS360(P36,Q36,0)>10800,30,ROUND(IF(DAYS360(Summary!$P36,Summary!$Q36)/360>=1,ROUND(DAYS360(Summary!$P36,Summary!$Q36)/360,0),DAYS360(Summary!$P36,Summary!$Q36)/360),2))) | Z36: =IF(OR(WhichRate="GASB IBR",WhichRate="FASB IBR",WhichRate="Custom"),IFERROR(IF(OR($S36="No Rate",$S36="",$S36=" ",$S36="")," ",OFFSET('Market Data'!$B$15,Summary!U36-1,Summary!T36-1)),""),IFERROR(IF(OR($S36="No Rate",$S36="",$S36=" ",$S36="")," ",OFFSET('FASB Data'!$B$15,Summary!U36-1,Summary!T36-1)),"")) | AA36: =IF(O36<>"",IF(WhichRate="FASB RFR",0,IF(OR(WhichRate="GASB IBR",WhichRate="FASB IBR"),IF(OR($S36="No Rate",$S36="",$S36=" "),"",OFFSET('Market Data'!$B$53,Summary!X36,Summary!W36-1)),IF(WhichRate="Custom",IF(OR($S36="No Rate",$S36="",$S36=" "),"",OFFSET('Custom Data'!$B$53,Summary!X36,Summary!W36-1)),""))),"") | AB36: =IF(OR($S36="No Rate",$S36="")," ",IF($R36="","",IF(Summary!$R36="Taxable",IF(Summary!$Y36>0,(Summary!$Z36+Summary!$AA36)*(1+TaxExemptRateAdjustment)),IF(Summary!$Y36>0,Summary!$Z36+Summary!$AA36)))) | AC36: =IF(Q36>0,IF(Q36-P36<365,"Possible Short Term Lease",""),"")
N37: =N36+1 -> 25 | S37: {=IF(ISBLANK(P37)," ",IF(OR(WhichRate="GASB IBR",WhichRate="FASB IBR",WhichRate="Custom"),IF(ISBLANK(P37),IFERROR(HLOOKUP(P37,'Market Data'!$C$13:$BA$13,1)," "),IFERROR(HLOOKUP(P37,'Market Data'!$C$13:$BA$13,1),"No Rate")),_xlfn.XLOOKUP(TEXT(P37,"mm-yyyy"),TEXT('FASB Data'!$D$13:$BC$13,"mm-yyyy"),'FASB Data'!$D$13:$BC$13,,0)))} | T37: =IF(OR(S37="No Rate",S37="",S37=" "),"",IF(OR(WhichRate="GASB IBR",WhichRate="FASB IBR",WhichRate="Custom"),SUMIF('Market Data'!$C$13:$BI$13,Summary!S37,'Market Data'!$C$14:$BI$14),SUMIF('FASB Data'!$C$13:$BU$13,Summary!S37,'FASB Data'!$C$14:$BU$14))) | U37: =IFERROR(VLOOKUP($Y37,'Market Data'!$B$15:$C$47,2,TRUE)+1,"") | V37: =IF(OR(S37="No Rate",S37="",S37=" "),"",IF(WhichRate="FASB RFR","N/A",IF(Y37<=0.25,RatingCategory&"-0.25",IF(Y37<1,RatingCategory&"-0.5",RatingCategory&"-"&ROUND(Y37,3))))) | W37: =IF(OR(S37="No Rate",S37="",S37=" ",S37=""),"",IF(WhichRate="FASB RFR","N/A",SUMIF('Market Data'!$C$51:$BI$51,Summary!S37,'Market Data'!$C$52:$BI$52))) | X37: =IF(ISBLANK(P37)," ",IF(WhichRate="FASB RFR","N/A",IFERROR(VLOOKUP($V37,'Market Data'!$C$53:$D$213,2,FALSE),""))) | Y37: =IF(ISBLANK(P37)," ",IF(DAYS360(P37,Q37,0)>10800,30,ROUND(IF(DAYS360(Summary!$P37,Summary!$Q37)/360>=1,ROUND(DAYS360(Summary!$P37,Summary!$Q37)/360,0),DAYS360(Summary!$P37,Summary!$Q37)/360),2))) | Z37: =IF(OR(WhichRate="GASB IBR",WhichRate="FASB IBR",WhichRate="Custom"),IFERROR(IF(OR($S37="No Rate",$S37="",$S37=" ",$S37="")," ",OFFSET('Market Data'!$B$15,Summary!U37-1,Summary!T37-1)),""),IFERROR(IF(OR($S37="No Rate",$S37="",$S37=" ",$S37="")," ",OFFSET('FASB Data'!$B$15,Summary!U37-1,Summary!T37-1)),"")) | AA37: =IF(O37<>"",IF(WhichRate="FASB RFR",0,IF(OR(WhichRate="GASB IBR",WhichRate="FASB IBR"),IF(OR($S37="No Rate",$S37="",$S37=" "),"",OFFSET('Market Data'!$B$53,Summary!X37,Summary!W37-1)),IF(WhichRate="Custom",IF(OR($S37="No Rate",$S37="",$S37=" "),"",OFFSET('Custom Data'!$B$53,Summary!X37,Summary!W37-1)),""))),"") | AB37: =IF(OR($S37="No Rate",$S37="")," ",IF($R37="","",IF(Summary!$R37="Taxable",IF(Summary!$Y37>0,(Summary!$Z37+Summary!$AA37)*(1+TaxExemptRateAdjustment)),IF(Summary!$Y37>0,Summary!$Z37+Summary!$AA37)))) | AC37: =IF(Q37>0,IF(Q37-P37<365,"Possible Short Term Lease",""),"")
